Package: eudysbiome Version: 1.38.0 Command: /Library/Frameworks/R.framework/Resources/bin/R CMD build --keep-empty-dirs --no-resave-data eudysbiome StartedAt: 2025-04-21 16:19:05 -0400 (Mon, 21 Apr 2025) EndedAt: 2025-04-21 16:19:14 -0400 (Mon, 21 Apr 2025) EllapsedTime: 9.1 seconds RetCode: 0 Status: OK PackageFile: eudysbiome_1.38.0.tar.gz PackageFileSize: 4.377 MiB