Package: eudysbiome Version: 1.38.0 Command: /Library/Frameworks/R.framework/Resources/bin/R CMD build --keep-empty-dirs --no-resave-data eudysbiome StartedAt: 2025-10-14 00:10:33 -0400 (Tue, 14 Oct 2025) EndedAt: 2025-10-14 00:10:58 -0400 (Tue, 14 Oct 2025) EllapsedTime: 25.1 seconds RetCode: 0 Status: OK PackageFile: eudysbiome_1.38.0.tar.gz PackageFileSize: 4.377 MiB