Package: esetVis Version: 1.34.0 Command: E:\biocbuild\bbs-3.21-bioc\R\bin\R.exe CMD INSTALL esetVis StartedAt: 2025-08-14 16:28:16 -0400 (Thu, 14 Aug 2025) EndedAt: 2025-08-14 16:28:51 -0400 (Thu, 14 Aug 2025) EllapsedTime: 34.5 seconds RetCode: 0 Status: OK