Package: esetVis Version: 1.34.0 Command: rm -rf esetVis.buildbin-libdir && mkdir esetVis.buildbin-libdir && E:\biocbuild\bbs-3.21-bioc\R\bin\R.exe CMD INSTALL --build --library=esetVis.buildbin-libdir esetVis_1.34.0.tar.gz StartedAt: 2025-08-15 09:16:02 -0400 (Fri, 15 Aug 2025) EndedAt: 2025-08-15 09:16:38 -0400 (Fri, 15 Aug 2025) EllapsedTime: 35.9 seconds RetCode: 0 Status: OK PackageFile: esetVis_1.34.0.zip PackageFileSize: 2.765 MiB