Package: esetVis Version: 1.34.0 Command: /home/biocbuild/bbs-3.21-bioc/R/bin/R CMD INSTALL esetVis StartedAt: 2025-10-08 15:31:44 -0400 (Wed, 08 Oct 2025) EndedAt: 2025-10-08 15:31:57 -0400 (Wed, 08 Oct 2025) EllapsedTime: 13.8 seconds RetCode: 0 Status: OK