Package: esetVis Version: 1.34.0 Command: /home/biocbuild/bbs-3.21-bioc/R/bin/R CMD check --install=check:esetVis.install-out.txt --library=/home/biocbuild/bbs-3.21-bioc/R/site-library --timings esetVis_1.34.0.tar.gz StartedAt: 2025-10-08 23:01:21 -0400 (Wed, 08 Oct 2025) EndedAt: 2025-10-08 23:05:18 -0400 (Wed, 08 Oct 2025) EllapsedTime: 236.2 seconds RetCode: 0 Status: OK CheckDir: esetVis.Rcheck Warnings: 0