Package: esetVis Version: 1.34.0 Command: /home/biocbuild/bbs-3.21-bioc/R/bin/R CMD build --keep-empty-dirs --no-resave-data esetVis StartedAt: 2025-10-08 17:27:13 -0400 (Wed, 08 Oct 2025) EndedAt: 2025-10-08 17:28:47 -0400 (Wed, 08 Oct 2025) EllapsedTime: 94.3 seconds RetCode: 0 Status: OK PackageFile: esetVis_1.34.0.tar.gz PackageFileSize: 3.19 MiB