Package: esetVis Version: 1.34.0 Command: rm -rf esetVis.buildbin-libdir && mkdir esetVis.buildbin-libdir && /Users/biocbuild/BBS/utils/build-universal.sh esetVis_1.34.0.tar.gz /Library/Frameworks/R.framework/Resources/bin/R esetVis.buildbin-libdir StartedAt: 2025-10-14 13:24:31 -0400 (Tue, 14 Oct 2025) EndedAt: 2025-10-14 13:25:24 -0400 (Tue, 14 Oct 2025) EllapsedTime: 52.5 seconds RetCode: 0 Status: OK PackageFile: esetVis_1.34.0.tgz PackageFileSize: 4.616 MiB