Package: escheR Version: 1.8.0 Command: /home/biocbuild/R/R/bin/R CMD INSTALL escheR StartedAt: 2025-10-13 20:36:02 -0000 (Mon, 13 Oct 2025) EndedAt: 2025-10-13 20:36:38 -0000 (Mon, 13 Oct 2025) EllapsedTime: 35.6 seconds RetCode: 0 Status: OK