Package: escheR Version: 1.8.0 Command: /home/biocbuild/R/R/bin/R CMD build --keep-empty-dirs --no-resave-data escheR StartedAt: 2025-10-14 00:45:50 -0000 (Tue, 14 Oct 2025) EndedAt: 2025-10-14 00:49:36 -0000 (Tue, 14 Oct 2025) EllapsedTime: 226.1 seconds RetCode: 0 Status: OK PackageFile: escheR_1.8.0.tar.gz PackageFileSize: 2.918 MiB