Package: escape Version: 2.4.0 Command: rm -rf escape.buildbin-libdir && mkdir escape.buildbin-libdir && E:\biocbuild\bbs-3.21-bioc\R\bin\R.exe CMD INSTALL --build --library=escape.buildbin-libdir escape_2.4.0.tar.gz StartedAt: 2025-08-15 09:15:59 -0400 (Fri, 15 Aug 2025) EndedAt: 2025-08-15 09:16:54 -0400 (Fri, 15 Aug 2025) EllapsedTime: 55.4 seconds RetCode: 0 Status: OK PackageFile: escape_2.4.0.zip PackageFileSize: 869.3 KiB