Package: escape Version: 2.4.0 Command: rm -rf escape.buildbin-libdir && mkdir escape.buildbin-libdir && /Users/biocbuild/BBS/utils/build-universal.sh escape_2.4.0.tar.gz /Library/Frameworks/R.framework/Resources/bin/R escape.buildbin-libdir StartedAt: 2025-04-22 00:44:48 -0400 (Tue, 22 Apr 2025) EndedAt: 2025-04-22 00:45:50 -0400 (Tue, 22 Apr 2025) EllapsedTime: 61.5 seconds RetCode: 0 Status: OK PackageFile: escape_2.4.0.tgz PackageFileSize: 1.758 MiB