Package: escape Version: 2.4.0 Command: /home/biocbuild/R/R/bin/R CMD build --keep-empty-dirs --no-resave-data escape StartedAt: 2025-10-14 00:45:10 -0000 (Tue, 14 Oct 2025) EndedAt: 2025-10-14 00:52:06 -0000 (Tue, 14 Oct 2025) EllapsedTime: 416.2 seconds RetCode: 1 Status: ERROR PackageFile: None PackageFileSize: NA