Package: esATAC Version: 1.30.0 Command: /home/biocbuild/R/R/bin/R CMD check --install=check:esATAC.install-out.txt --library=/home/biocbuild/R/R/site-library --no-vignettes --timings esATAC_1.30.0.tar.gz StartedAt: 2025-10-14 09:00:53 -0000 (Tue, 14 Oct 2025) EndedAt: 2025-10-14 09:10:49 -0000 (Tue, 14 Oct 2025) EllapsedTime: 595.6 seconds RetCode: 0 Status: OK CheckDir: esATAC.Rcheck Warnings: 0