Package: esATAC Version: 1.30.0 Command: /Library/Frameworks/R.framework/Resources/bin/R CMD check --install=check:esATAC.install-out.txt --library=/Library/Frameworks/R.framework/Resources/library --no-vignettes --timings esATAC_1.30.0.tar.gz StartedAt: 2025-10-14 21:12:22 -0400 (Tue, 14 Oct 2025) EndedAt: 2025-10-14 21:20:45 -0400 (Tue, 14 Oct 2025) EllapsedTime: 503.4 seconds RetCode: 0 Status: OK CheckDir: esATAC.Rcheck Warnings: 0