Package: erccdashboard Version: 1.42.0 Command: E:\biocbuild\bbs-3.21-bioc\R\bin\R.exe CMD check --no-multiarch --install=check:erccdashboard.install-out.txt --library=E:\biocbuild\bbs-3.21-bioc\R\library --no-vignettes --timings erccdashboard_1.42.0.tar.gz StartedAt: 2025-08-15 02:00:02 -0400 (Fri, 15 Aug 2025) EndedAt: 2025-08-15 02:01:25 -0400 (Fri, 15 Aug 2025) EllapsedTime: 83.2 seconds RetCode: 0 Status: OK CheckDir: erccdashboard.Rcheck Warnings: 0