Package: epivizrServer Version: 1.36.0 Command: /Library/Frameworks/R.framework/Resources/bin/R CMD build --keep-empty-dirs --no-resave-data epivizrServer StartedAt: 2025-04-21 16:18:30 -0400 (Mon, 21 Apr 2025) EndedAt: 2025-04-21 16:18:33 -0400 (Mon, 21 Apr 2025) EllapsedTime: 3.0 seconds RetCode: 0 Status: OK PackageFile: epivizrServer_1.36.0.tar.gz PackageFileSize: 229.9 KiB