Package: epivizrData Version: 1.36.0 Command: /home/biocbuild/bbs-3.21-bioc/R/bin/R CMD check --install=check:epivizrData.install-out.txt --library=/home/biocbuild/bbs-3.21-bioc/R/site-library --timings epivizrData_1.36.0.tar.gz StartedAt: 2025-10-15 23:03:39 -0400 (Wed, 15 Oct 2025) EndedAt: 2025-10-15 23:09:37 -0400 (Wed, 15 Oct 2025) EllapsedTime: 357.5 seconds RetCode: 0 Status: OK CheckDir: epivizrData.Rcheck Warnings: 0