Package: epivizrData Version: 1.36.0 Command: /Library/Frameworks/R.framework/Resources/bin/R CMD INSTALL epivizrData StartedAt: 2025-10-13 17:25:03 -0400 (Mon, 13 Oct 2025) EndedAt: 2025-10-13 17:25:54 -0400 (Mon, 13 Oct 2025) EllapsedTime: 50.3 seconds RetCode: 0 Status: OK