Package: epivizrData Version: 1.36.0 Command: rm -rf epivizrData.buildbin-libdir && mkdir epivizrData.buildbin-libdir && /Users/biocbuild/BBS/utils/build-universal.sh epivizrData_1.36.0.tar.gz /Library/Frameworks/R.framework/Resources/bin/R epivizrData.buildbin-libdir StartedAt: 2025-10-15 18:25:58 -0400 (Wed, 15 Oct 2025) EndedAt: 2025-10-15 18:26:53 -0400 (Wed, 15 Oct 2025) EllapsedTime: 54.5 seconds RetCode: 0 Status: OK PackageFile: epivizrData_1.36.0.tgz PackageFileSize: 880.8 KiB