Package: epivizr Version: 2.38.0 Command: rm -rf epivizr.buildbin-libdir && mkdir epivizr.buildbin-libdir && E:\biocbuild\bbs-3.21-bioc\R\bin\R.exe CMD INSTALL --build --library=epivizr.buildbin-libdir epivizr_2.38.0.tar.gz StartedAt: 2025-08-15 09:15:25 -0400 (Fri, 15 Aug 2025) EndedAt: 2025-08-15 09:16:39 -0400 (Fri, 15 Aug 2025) EllapsedTime: 74.5 seconds RetCode: 0 Status: OK PackageFile: epivizr_2.38.0.zip PackageFileSize: 1.993 MiB