Package: epivizr Version: 2.38.0 Command: /Library/Frameworks/R.framework/Resources/bin/R CMD INSTALL epivizr StartedAt: 2025-10-13 16:17:32 -0400 (Mon, 13 Oct 2025) EndedAt: 2025-10-13 16:19:06 -0400 (Mon, 13 Oct 2025) EllapsedTime: 93.5 seconds RetCode: 0 Status: OK