Package: epivizr Version: 2.38.0 Command: /home/biocbuild/R/R/bin/R CMD INSTALL epivizr StartedAt: 2025-10-13 20:59:15 -0000 (Mon, 13 Oct 2025) EndedAt: 2025-10-13 21:00:19 -0000 (Mon, 13 Oct 2025) EllapsedTime: 63.9 seconds RetCode: 0 Status: OK