Package: epistack Version: 1.14.0 Command: /Library/Frameworks/R.framework/Resources/bin/R CMD build --keep-empty-dirs --no-resave-data epistack StartedAt: 2025-10-14 00:03:59 -0400 (Tue, 14 Oct 2025) EndedAt: 2025-10-14 00:05:50 -0400 (Tue, 14 Oct 2025) EllapsedTime: 110.1 seconds RetCode: 0 Status: OK PackageFile: epistack_1.14.0.tar.gz PackageFileSize: 3.947 MiB