Package: epiregulon.extra Version: 1.4.0 Command: chmod a+r epiregulon.extra -R && E:\biocbuild\bbs-3.21-bioc\R\bin\R.exe CMD build --keep-empty-dirs --no-resave-data epiregulon.extra StartedAt: 2025-08-14 18:52:27 -0400 (Thu, 14 Aug 2025) EndedAt: 2025-08-14 19:04:49 -0400 (Thu, 14 Aug 2025) EllapsedTime: 741.8 seconds RetCode: 0 Status: OK PackageFile: epiregulon.extra_1.4.0.tar.gz PackageFileSize: 2.004 MiB