Package: epigraHMM Version: 1.16.1 Command: /home/biocbuild/bbs-3.21-bioc/R/bin/R CMD check --install=check:epigraHMM.install-out.txt --library=/home/biocbuild/bbs-3.21-bioc/R/site-library --timings epigraHMM_1.16.1.tar.gz StartedAt: 2025-10-15 22:59:13 -0400 (Wed, 15 Oct 2025) EndedAt: 2025-10-15 23:14:03 -0400 (Wed, 15 Oct 2025) EllapsedTime: 890.3 seconds RetCode: 0 Status: WARNINGS CheckDir: epigraHMM.Rcheck Warnings: 1