Package: epigraHMM Version: 1.16.1 Command: /home/biocbuild/bbs-3.21-bioc/R/bin/R CMD build --keep-empty-dirs --no-resave-data epigraHMM StartedAt: 2025-10-15 17:23:51 -0400 (Wed, 15 Oct 2025) EndedAt: 2025-10-15 17:32:45 -0400 (Wed, 15 Oct 2025) EllapsedTime: 533.8 seconds RetCode: 0 Status: OK PackageFile: epigraHMM_1.16.1.tar.gz PackageFileSize: 723.2 KiB