Package: epigraHMM Version: 1.16.1 Command: /Library/Frameworks/R.framework/Resources/bin/R CMD INSTALL epigraHMM StartedAt: 2025-10-13 16:52:07 -0400 (Mon, 13 Oct 2025) EndedAt: 2025-10-13 16:54:07 -0400 (Mon, 13 Oct 2025) EllapsedTime: 120.9 seconds RetCode: 0 Status: OK