Package: epigraHMM Version: 1.16.1 Command: /Library/Frameworks/R.framework/Resources/bin/R CMD check --install=check:epigraHMM.install-out.txt --library=/Library/Frameworks/R.framework/Resources/library --no-vignettes --timings epigraHMM_1.16.1.tar.gz StartedAt: 2025-10-14 20:51:59 -0400 (Tue, 14 Oct 2025) EndedAt: 2025-10-14 21:00:14 -0400 (Tue, 14 Oct 2025) EllapsedTime: 494.9 seconds RetCode: 0 Status: WARNINGS CheckDir: epigraHMM.Rcheck Warnings: 1