Package: epigraHMM Version: 1.16.1 Command: /Library/Frameworks/R.framework/Resources/bin/R CMD build --keep-empty-dirs --no-resave-data epigraHMM StartedAt: 2025-10-13 23:57:16 -0400 (Mon, 13 Oct 2025) EndedAt: 2025-10-14 00:05:51 -0400 (Tue, 14 Oct 2025) EllapsedTime: 514.4 seconds RetCode: 0 Status: OK PackageFile: epigraHMM_1.16.1.tar.gz PackageFileSize: 733.7 KiB