Package: epigraHMM Version: 1.16.1 Command: rm -rf epigraHMM.buildbin-libdir && mkdir epigraHMM.buildbin-libdir && /Users/biocbuild/BBS/utils/build-universal.sh epigraHMM_1.16.1.tar.gz /Library/Frameworks/R.framework/Resources/bin/R epigraHMM.buildbin-libdir StartedAt: 2025-10-15 18:23:44 -0400 (Wed, 15 Oct 2025) EndedAt: 2025-10-15 18:25:58 -0400 (Wed, 15 Oct 2025) EllapsedTime: 133.6 seconds RetCode: 0 Status: OK PackageFile: epigraHMM_1.16.1.tgz PackageFileSize: 2.012 MiB