Package: ensembldb Version: 2.32.0 Command: rm -rf ensembldb.buildbin-libdir && mkdir ensembldb.buildbin-libdir && E:\biocbuild\bbs-3.21-bioc\R\bin\R.exe CMD INSTALL --build --library=ensembldb.buildbin-libdir ensembldb_2.32.0.tar.gz StartedAt: 2025-08-15 09:14:29 -0400 (Fri, 15 Aug 2025) EndedAt: 2025-08-15 09:16:21 -0400 (Fri, 15 Aug 2025) EllapsedTime: 111.5 seconds RetCode: 0 Status: OK PackageFile: ensembldb_2.32.0.zip PackageFileSize: 3.439 MiB