Package: ensembldb Version: 2.32.0 Command: /home/biocbuild/bbs-3.21-bioc/R/bin/R CMD check --install=check:ensembldb.install-out.txt --library=/home/biocbuild/bbs-3.21-bioc/R/site-library --timings ensembldb_2.32.0.tar.gz StartedAt: 2025-10-15 22:57:13 -0400 (Wed, 15 Oct 2025) EndedAt: 2025-10-15 23:17:06 -0400 (Wed, 15 Oct 2025) EllapsedTime: 1192.7 seconds RetCode: 0 Status: OK CheckDir: ensembldb.Rcheck Warnings: 0