Package: ensembldb Version: 2.32.0 Command: /Library/Frameworks/R.framework/Resources/bin/R CMD check --install=check:ensembldb.install-out.txt --library=/Library/Frameworks/R.framework/Resources/library --no-vignettes --timings ensembldb_2.32.0.tar.gz StartedAt: 2025-09-30 03:17:47 -0400 (Tue, 30 Sep 2025) EndedAt: 2025-09-30 03:49:33 -0400 (Tue, 30 Sep 2025) EllapsedTime: 1906.1 seconds RetCode: 0 Status: OK CheckDir: ensembldb.Rcheck Warnings: 0