Package: ensembldb Version: 2.32.0 Command: /Library/Frameworks/R.framework/Resources/bin/R CMD build --keep-empty-dirs --no-resave-data ensembldb StartedAt: 2025-09-29 18:50:18 -0400 (Mon, 29 Sep 2025) EndedAt: 2025-09-29 18:54:49 -0400 (Mon, 29 Sep 2025) EllapsedTime: 270.3 seconds RetCode: 0 Status: OK PackageFile: ensembldb_2.32.0.tar.gz PackageFileSize: 3.286 MiB