Package: enrichplot Version: 1.28.4 Command: /home/biocbuild/bbs-3.21-bioc/R/bin/R CMD build --keep-empty-dirs --no-resave-data enrichplot StartedAt: 2025-10-15 17:22:48 -0400 (Wed, 15 Oct 2025) EndedAt: 2025-10-15 17:23:13 -0400 (Wed, 15 Oct 2025) EllapsedTime: 25.0 seconds RetCode: 0 Status: OK PackageFile: enrichplot_1.28.4.tar.gz PackageFileSize: 96.53 KiB