Package: enrichplot Version: 1.28.4 Command: /Library/Frameworks/R.framework/Resources/bin/R CMD INSTALL enrichplot StartedAt: 2025-10-13 16:28:39 -0400 (Mon, 13 Oct 2025) EndedAt: 2025-10-13 16:29:29 -0400 (Mon, 13 Oct 2025) EllapsedTime: 50.3 seconds RetCode: 0 Status: OK