Package: enrichplot Version: 1.28.4 Command: /home/biocbuild/R/R/bin/R CMD INSTALL enrichplot StartedAt: 2025-10-13 21:06:12 -0000 (Mon, 13 Oct 2025) EndedAt: 2025-10-13 21:06:46 -0000 (Mon, 13 Oct 2025) EllapsedTime: 33.8 seconds RetCode: 0 Status: OK