Package: enrichplot Version: 1.28.4 Command: /home/biocbuild/R/R/bin/R CMD build --keep-empty-dirs --no-resave-data enrichplot StartedAt: 2025-10-14 00:36:33 -0000 (Tue, 14 Oct 2025) EndedAt: 2025-10-14 00:37:08 -0000 (Tue, 14 Oct 2025) EllapsedTime: 35.0 seconds RetCode: 0 Status: OK PackageFile: enrichplot_1.28.4.tar.gz PackageFileSize: 97.87 KiB