Package: enrichplot Version: 1.28.4 Command: /Library/Frameworks/R.framework/Resources/bin/R CMD INSTALL enrichplot StartedAt: 2025-10-13 17:49:49 -0400 (Mon, 13 Oct 2025) EndedAt: 2025-10-13 17:50:17 -0400 (Mon, 13 Oct 2025) EllapsedTime: 27.4 seconds RetCode: 0 Status: OK