Package: enrichplot Version: 1.28.4 Command: /Library/Frameworks/R.framework/Resources/bin/R CMD check --install=check:enrichplot.install-out.txt --library=/Library/Frameworks/R.framework/Resources/library --no-vignettes --timings enrichplot_1.28.4.tar.gz StartedAt: 2025-10-14 20:44:17 -0400 (Tue, 14 Oct 2025) EndedAt: 2025-10-14 20:47:50 -0400 (Tue, 14 Oct 2025) EllapsedTime: 212.3 seconds RetCode: 0 Status: WARNINGS CheckDir: enrichplot.Rcheck Warnings: 1