Package: enrichplot Version: 1.28.4 Command: /Library/Frameworks/R.framework/Resources/bin/R CMD build --keep-empty-dirs --no-resave-data enrichplot StartedAt: 2025-10-13 23:53:04 -0400 (Mon, 13 Oct 2025) EndedAt: 2025-10-13 23:53:35 -0400 (Mon, 13 Oct 2025) EllapsedTime: 30.3 seconds RetCode: 0 Status: OK PackageFile: enrichplot_1.28.4.tar.gz PackageFileSize: 96.48 KiB