Package: enrichViewNet Version: 1.6.2 Command: /Library/Frameworks/R.framework/Resources/bin/R CMD check --install=check:enrichViewNet.install-out.txt --library=/Library/Frameworks/R.framework/Resources/library --no-vignettes --timings enrichViewNet_1.6.2.tar.gz StartedAt: 2025-10-14 03:22:21 -0400 (Tue, 14 Oct 2025) EndedAt: 2025-10-14 03:29:05 -0400 (Tue, 14 Oct 2025) EllapsedTime: 404.2 seconds RetCode: 0 Status: OK CheckDir: enrichViewNet.Rcheck Warnings: 0