Package: enhancerHomologSearch Version: 1.14.0 Command: /home/biocbuild/bbs-3.21-bioc/R/bin/R CMD check --install=check:enhancerHomologSearch.install-out.txt --library=/home/biocbuild/bbs-3.21-bioc/R/site-library --timings enhancerHomologSearch_1.14.0.tar.gz StartedAt: 2025-10-01 22:57:19 -0400 (Wed, 01 Oct 2025) EndedAt: 2025-10-01 23:16:27 -0400 (Wed, 01 Oct 2025) EllapsedTime: 1148.5 seconds RetCode: 0 Status: OK CheckDir: enhancerHomologSearch.Rcheck Warnings: 0