Package: enhancerHomologSearch Version: 1.14.0 Command: /home/biocbuild/bbs-3.21-bioc/R/bin/R CMD build --keep-empty-dirs --no-resave-data enhancerHomologSearch StartedAt: 2025-10-01 17:24:27 -0400 (Wed, 01 Oct 2025) EndedAt: 2025-10-01 17:35:35 -0400 (Wed, 01 Oct 2025) EllapsedTime: 668.2 seconds RetCode: 0 Status: OK PackageFile: enhancerHomologSearch_1.14.0.tar.gz PackageFileSize: 1.042 MiB