Package: enhancerHomologSearch Version: 1.14.0 Command: /Library/Frameworks/R.framework/Resources/bin/R CMD INSTALL enhancerHomologSearch StartedAt: 2025-10-13 16:35:56 -0400 (Mon, 13 Oct 2025) EndedAt: 2025-10-13 16:46:05 -0400 (Mon, 13 Oct 2025) EllapsedTime: 609.1 seconds RetCode: 0 Status: OK