Package: enhancerHomologSearch Version: 1.14.0 Command: /home/biocbuild/R/R/bin/R CMD INSTALL enhancerHomologSearch StartedAt: 2025-10-13 21:10:39 -0000 (Mon, 13 Oct 2025) EndedAt: 2025-10-13 21:17:26 -0000 (Mon, 13 Oct 2025) EllapsedTime: 407.0 seconds RetCode: 0 Status: OK