Package: enhancerHomologSearch Version: 1.14.0 Command: /home/biocbuild/R/R/bin/R CMD check --install=check:enhancerHomologSearch.install-out.txt --library=/home/biocbuild/R/R/site-library --no-vignettes --timings enhancerHomologSearch_1.14.0.tar.gz StartedAt: 2025-10-14 08:50:00 -0000 (Tue, 14 Oct 2025) EndedAt: 2025-10-14 09:04:58 -0000 (Tue, 14 Oct 2025) EllapsedTime: 898.1 seconds RetCode: 0 Status: OK CheckDir: enhancerHomologSearch.Rcheck Warnings: 0