Package: enhancerHomologSearch Version: 1.14.0 Command: /home/biocbuild/R/R/bin/R CMD build --keep-empty-dirs --no-resave-data enhancerHomologSearch StartedAt: 2025-10-14 00:33:57 -0000 (Tue, 14 Oct 2025) EndedAt: 2025-10-14 00:50:02 -0000 (Tue, 14 Oct 2025) EllapsedTime: 965.2 seconds RetCode: 0 Status: OK PackageFile: enhancerHomologSearch_1.14.0.tar.gz PackageFileSize: 1.107 MiB