Package: enhancerHomologSearch Version: 1.14.0 Command: rm -rf enhancerHomologSearch.buildbin-libdir && mkdir enhancerHomologSearch.buildbin-libdir && /Users/biocbuild/BBS/utils/build-universal.sh enhancerHomologSearch_1.14.0.tar.gz /Library/Frameworks/R.framework/Resources/bin/R enhancerHomologSearch.buildbin-libdir StartedAt: 2025-10-01 18:20:29 -0400 (Wed, 01 Oct 2025) EndedAt: 2025-10-01 18:25:40 -0400 (Wed, 01 Oct 2025) EllapsedTime: 310.6 seconds RetCode: 0 Status: OK PackageFile: enhancerHomologSearch_1.14.0.tgz PackageFileSize: 1.851 MiB